BEGIN:VCALENDAR
VERSION:2.0
PRODID:-//Barral Institute Finland - ECPv6.15.20//NONSGML v1.0//EN
CALSCALE:GREGORIAN
METHOD:PUBLISH
X-WR-CALNAME:Barral Institute Finland
X-ORIGINAL-URL:https://www.barral.fi
X-WR-CALDESC:Tapahtumat Barral Institute Finland
REFRESH-INTERVAL;VALUE=DURATION:PT1H
X-Robots-Tag:noindex
X-PUBLISHED-TTL:PT1H
BEGIN:VTIMEZONE
TZID:UTC
BEGIN:STANDARD
TZOFFSETFROM:+0000
TZOFFSETTO:+0000
TZNAME:UTC
DTSTART:20240101T000000
END:STANDARD
END:VTIMEZONE
BEGIN:VEVENT
DTSTART;TZID=UTC:20260123T090000
DTEND;TZID=UTC:20260125T160000
DTSTAMP:20260417T221813
CREATED:20250525T192739Z
LAST-MODIFIED:20251028T162240Z
UID:1258-1769158800-1769356800@www.barral.fi
SUMMARY:NM1 Neuraalimanipulaatio 1
DESCRIPTION:NM1: Neuraalimanipulaatio 1 – Integroiva lähestymistapa hermoston ja trauman hoitamiseen \nNM1-kurssilla aikana opiskelijat oppivat yksityiskohtaisesti hermoston ja keskushermostoa ympäröivien kalvorakenteiden anatomiaa\, miten ne toimivat ja miten ne liittyvät kehon toimintaan. \nHermosto voi hyvin\, kun hermot pystyvät liukumaan vapaasti ympäröivissä rakenteissaan. Neuraalimanipulaation avulla voidaan edistää hermojen liikkuvuutta ja siten hermojen johtavuutta ja sisäistä verenkiertoa\, mikä  edesauttaa hermojen normaalia toimintaa. \nNM1 on hermojen käsittelyn erikoiskurssi\, joka keskittyy kehollisten traumojen\, kuten piiskaniskuvamman (whiplash-vamma) vaikutukseen hermostossa. Traumalla tarkoitetaan tässä yhteydessä erilaisten iskujen vaikutusta kehoon ja hermostoon\, kuten esimerkiksi auto-onnettomuuksissa tai kaatuessa. \nKurssilla opit arviointitaitoja\, joiden avulla voita tutkia ja määrittää päänalueella olevia jännitteitä. Kurssilla keskitytään erityisesti selkärangan kovakalvon\, kallon alueen kovakalvon\, kallon ja kasvojen luiden tilan arviointiin ja hoitamiseen. NM1-kurssi tarjoaa uusia menetelmiä hermoston eri alueiden liikerajoituksiin\, joihin ei yleensä keskitytä tuki- ja liikuntaelimistön hoitamisen yhteydessä. \nOsaamistavoitteet: \n– Ymmärrät kolme keskeistä aluetta jotka liittyvät kehollisten traumojen hoitoon: fysikaaliset lait\, kehon arviointi ja hoitotekniikat.– Osaat hermojen hoitoon liittyvän anatomian ja fysiologian hyvällä tasolla.– Ymmärrät hermojen manuaaliterapian peruskäsitteet: hermon johtokyky\, elektromagneettinen johtokyky\, hermon sisäinen verenkierto ja hermojen sisäinen hermotus.– Osaat paikallistaa ja vapauttaa liikerajoitteet aivokalvojärjestelmässä.– Tunnet testit\, joilla voidaan määrittää kaulan ja yläraajan alueen hermojen ongelmia.– Ymmärrät\, kuinka piiskaniskavamma luo liikerajoituksia koko kehossa.– Osaat tekniikoita\, jotka kattavat koko kehon\, sillä piiskaniskavammassa koko keho altistuu törmäysvoimille\, ei vain kaularangalle.– Osaat arvioida liikerajoituksia lumbosakraalialueella. \nPohjavaatimus: Sosiaali- ja terveydenhuoltoalan koulutus\, koulutus manuaalisesta terapiasta. Muussa tapauksessa olethan yhteydessä ennen ilmoittautumista. \nKurssikirjallisuus: Trauma: An Osteopathic Approach by Jean-Pierre Barral\, RPT\, DO & Manual Therapy for Peripheral Nerves by Jean-Pierre Barral\, RPT\, DO; and Alain Croibier\, D.O. \nKurssin toteutuksen tiedot: \nKesto: 3 pv\, 24 tuntia. \nAjankohta: 23.-25.1.2026. \nOpettaja: Alex Fugallo (UK) BSc(Hons)\, Ost Med DO ND\, BI-D (tutustu Alexiin täällä). \nPaikka: Shakta Joogakoulu\, Helsinki. \nHinta: 740 € + alv 25\,5% (928\,7 €). \nKurssihinta sisältää opetuksen\, englanninkielisen opinto-oppaan sekä kahvin ja teen. Lounas on omakustanteinen. \nOpetuskieli: englanti\, kurssi tulkataan suomeksi ja opetusavustajat puhuvat suomea. \nKoulutuksen järjestää Barral Institute Finland. Koulutukseen liittyvissä sisällöllisissä ja käytännönjärjestelyihin liittyvissä asioissa ota yhteyttä info@barral.fi. \n  \nIlmoittaudu koulutukseen:\n1. Ostamalla koulutus FIMT-verkkokaupasta.\n2. Ilmoittautumalla info@barral.fi \nTarjoamme kurssin suoraoston lisäksi myös osamaksuvaihtoehtoja – ota rohkeasti yhteyttä!\n			\n			\n				\n				\n				\n				\n			\n				\n				\n				\n				\n				\n				\n				\n				\n				\n				\n				Osta koulutus FIMT-verkkokaupasta\n			\n				Neuraalimanipulaatio 1
URL:https://www.barral.fi/koulutus/nm1-neuraalimanipulaatio-1/
LOCATION:Shakta Joogakoulu\, Työpajankatu 10 A\, Helsinki\, 00580\, Finland
CATEGORIES:Neuraalimanipulaatio
ORGANIZER;CN="Barral Institute Finland":MAILTO:info@barral.fi
END:VEVENT
BEGIN:VEVENT
DTSTART;VALUE=DATE:20250425
DTEND;VALUE=DATE:20250428
DTSTAMP:20260417T221813
CREATED:20250417T075037Z
LAST-MODIFIED:20250417T083528Z
UID:1164-1745539200-1745798399@www.barral.fi
SUMMARY:MAUE: Nivelalueiden manuaalinen käsittely – Yläraajat
DESCRIPTION:  \nKolmen päivän pituisella MAUE-kurssilla tutkit ja käsittelet yläraajan nivelalueita syvällisesti. Kurssilla opetellaan tutkimaan\, arvioimaan ja hoitamaan yläraajojen hermojen\, valtimoiden\, nivelsiteiden ja -kapseleiden sekä luiden ja pehmytkudosten tilaa. \nOsaamistavoitteet:\n– osaat tutkia ja arvioida yläraajojen hermojen\, valtimoiden\, nivelsiteiden ja -kapseleiden sekä luiden ja pehmytkudosten tilaa\,\n– ymmärrät nivelten ja sisäelinten keskinäisiä suhteita sekä yläraajojen nivelten viestintää kehon muiden osien kanssa\,\n– tunnistat miten nivelalueet liittyvät kehon tunneyhteyksiin\,\n– osaat tehdä eri nivelalueille mobilisoivia ja nivelen hyvinvointia edistäviä tekniikoita\,\n– osaat arvioida yläraajan jokaista pääniveltä sen ensisijaisen toimintahäiriön varalta\, joka johtuu siihen vaikuttavista anatomisista tai fysiologisista järjestelmistä\,\n– ymmärrät perinteiset indikaatiot\, kuten kliininen kipu\, nyrjähdys\, niveltulehdus ja tulehdus aivan uudella tavalla. \nKurssilla opittavat tekniikat voit ottaa heti kurssin jälkeen käyttöösi! \nKurssin toteutuksen tiedot: \nAjankohta: perjantai-sunnuntai 25.-27.4.2025 \nPaikka: Shakta Joogakoulu\, Työpajankatu 10 A\, 00580 Helsinki \nOpettaja: osteopaatti-fysioterapeutti Kåre Nielsen\, Tanska \nKurssin opetuskieli on englanti ja se tulkataan suomeksi. \n  \nEarly Bird -hinta: \n750 € + alv 25\,5% (941\,25 €)\,  kun ilmoittaudut 25.2.2025 mennessä. \nNormaali hinta: \n880€ + alv 25\,5% (1104\,40€)\, kun ilmoittaudut 25.2.2025 jälkeen. \nKurssihinta sisältää opetuksen\, tulkkauksen suomeksi\, opinto-oppaan sekä kahvin ja teen. Lounas on omakustanteinen. \n  \nPohjavaatimus: koulutettu hieroja\, jäsenkorjaaja\, osteopaatti\, fysioterapeutti\, kiropraktikko tai muu manuaaliterapian alan ammattilainen. \n\n 
URL:https://www.barral.fi/koulutus/maue-nivelalueiden-manuaalinen-kasittely-ylaraajat/
LOCATION:Shakta Joogakoulu\, Työpajankatu 10 A\, Helsinki\, 00580\, Finland
CATEGORIES:MAA Nivelalueiden manuaalinen käsittely
ORGANIZER;CN="Barral Institute Finland":MAILTO:info@barral.fi
END:VEVENT
END:VCALENDAR