BEGIN:VCALENDAR
VERSION:2.0
PRODID:-//Barral Institute Finland - ECPv6.15.20//NONSGML v1.0//EN
CALSCALE:GREGORIAN
METHOD:PUBLISH
X-WR-CALNAME:Barral Institute Finland
X-ORIGINAL-URL:https://www.barral.fi
X-WR-CALDESC:Tapahtumat Barral Institute Finland
REFRESH-INTERVAL;VALUE=DURATION:PT1H
X-Robots-Tag:noindex
X-PUBLISHED-TTL:PT1H
BEGIN:VTIMEZONE
TZID:UTC
BEGIN:STANDARD
TZOFFSETFROM:+0000
TZOFFSETTO:+0000
TZNAME:UTC
DTSTART:20250101T000000
END:STANDARD
END:VTIMEZONE
BEGIN:VEVENT
DTSTART;TZID=UTC:20260612T080000
DTEND;TZID=UTC:20260614T160000
DTSTAMP:20260416T135730
CREATED:20250525T200739Z
LAST-MODIFIED:20260404T064711Z
UID:1267-1781251200-1781452800@www.barral.fi
SUMMARY:MALE: Nivelalueiden manuaalinen käsittely – Alaraajat
DESCRIPTION:MALE: Nivelalueiden manuaalinen käsittely – Alaraajat\nMALE-kurssilla tutkit ja käsittelet monipuolisesti alaraajojen nivelalueita. Kurssilla opetellaan tutkimaan\, arvioimaan ja hoitamaan alaraajojen hermojen\, valtimoiden\, nivelsiteiden ja -kapseleiden sekä luiden ja pehmytkudosten tilaa ja toimintahäiriöitä. \nOsaamistavoitteet:– Osaat tutkia ja arvioida alaraajojen hermojen\, valtimoiden\, nivelsiteiden ja -kapseleiden sekä luiden ja pehmytkudosten tilaa ja toimintahäiriöitä.– Ymmärrät nivelten ja sisäelinten keskinäisiä suhteita sekä alaraajojen nivelten yhteyksiä kehon muiden osien kanssa\,– Tunnistat miten nivelalueet liittyvät kehon tunneyhteyksiin.– Osaat tehdä alaraajojen nivelalueille tarkkoja mobilisoivia ja nivelen hyvinvointia edistäviä tekniikoita.– Ymmärrät perinteisten indikaatioiden\, kuten kivun tai niveltulehduksen perusteet uudella tavalla.– Tunnet syvällisesti alaraajojen nivelalueiden anatomiaa ja fysiologiaa. \n\nPohjavaatimus: Sosiaali- ja terveydenhuoltoalan koulutus\, koulutus manuaalisesta terapiasta. \n\nKurssikirjallisuus: Manual Therapy for Peripheral Nerves & New Manual Articular Approach: Lower Extremity both by Jean-Pierre Barral\, RPT\, DO; and Alain Croibier\, D.O. \n  \nKurssin toteutuksen tiedot: \nKesto: 3 pv\, 24 tuntia. \nAjankohta: 12.-14.6.2026. \nOpettaja: Kåre Nielsen (DK)\, Osteopaatti\, DO\, M.D.O. (tutustu Kåreen lähemmin täällä). \nPaikka: Shakta Joogakoulu\, Helsinki. \nHinta:  \n760 € + alv 25\,5%  (953\,80 €). \nKurssihinta sisältää opetuksen\, englanninkielisen opinto-oppaan sekä kahvin ja teen. Lounas on omakustanteinen. \nOpetuskieli: englanti\, kurssi tulkataan suomeksi ja opetusavustajat puhuvat suomea \nKoulutuksen järjestää Barral Institute Finland. Koulutukseen liittyvissä sisällöllisissä ja käytännönjärjestelyihin liittyvissä asioissa ota yhteyttä info@barral.fi. \n  \nIlmoittaudu koulutukseen:\n1. Ostamalla koulutus FIMT-verkkokaupasta.\n2. Ilmoittautumalla info@barral.fi \nTarjoamme kurssin suoraoston lisäksi myös osamaksuvaihtoehtoja – ota rohkeasti yhteyttä!\n			\n			\n				\n				\n				\n				\n			\n				\n				\n				\n				\n				\n				\n				\n				\n				\n				\n				Osta koulutus FIMT-verkkokaupasta\n			\n				MALE
URL:https://www.barral.fi/koulutus/male-nivelalueiden-manuaalinen-kasittely-alaraajat/
LOCATION:Shakta Joogakoulu\, Työpajankatu 10 A\, Helsinki\, 00580\, Finland
CATEGORIES:MAA Nivelalueiden manuaalinen käsittely
ORGANIZER;CN="Barral Institute Finland":MAILTO:info@barral.fi
END:VEVENT
BEGIN:VEVENT
DTSTART;VALUE=DATE:20260820
DTEND;VALUE=DATE:20260824
DTSTAMP:20260416T135730
CREATED:20260123T074930Z
LAST-MODIFIED:20260123T090045Z
UID:1413-1787184000-1787529599@www.barral.fi
SUMMARY:VM4: Viskeraalimanipulaatio 4\, Rintakehä
DESCRIPTION:VM1- ja VM2-kursseilla olet tutustunut eri sisäelinten tunnusteluun ja paikallisiin liikerajoituksiin. VM4-kurssilla tutustut laajemmin rintaontelon toiminnalliseen biomekaniikkaan. VM4 tarjoaa mahdollisuuden oppia tutkimaan ja hoitamaan rintakehän ja keuhkojen aluetta\, ymmärtää kovan ja pehmeän rungon välistä suhdetta\, sekä niiden lukemattomia suhteita hengityksen\, verenkierron ja ylävartalon liiketoiminnassa. \nOsaamistavoitteet:– Osaat tutkia kurkun ja rintaontelon viskeraalista faskiaa.– Osaat arvioida rintakehän elinten anatomiaa\, biomekaniikkaa ja toimintaa.– Ymmärrät\, rintakehän\, rintakehän ja solisluun alueen biomekaniikkaa.– Osaat tekniikoita rintaontelon sisääntulon ja kieliluun alueen pehmytkudoskomponenttien vapauttamiseksi.– Kehität palpaatiotekniikoita\, joita käytät rintakehän toiminnan arvioinnissa.– Ymmärrät ja osaat edistää rintakehän alueen elinten integrointia.-Osaat käyttää eri tekniikoita rintakehän somaattisten ja viskeraalisten syiden erottamiseksi erityisesti pleuran\, keuhkojen\, sydänpussin\, sydämen\, välikarsinan\, kilpirauhasen\, henkitorven\, ruokatorven\, rintalastan ja rintakehän osalta. \nPohjavaatimus: VM2 \nKurssin toteutuksen tiedot:Kesto: 4 pv\, 32 tuntia.Ajankohta: 20.- 23.8.2026.Paikka: FIMT Finnish Institute of Manual Therapy\, Töyrytie 1-5\, Tampere. \nOpettaja: Thomas Sonnleitner (DE)\, DO\, PT\, Rolfer\, CVMP (tutustu Thomakseen lähemmin täällä). \nHinta:Early Bird 810 € + alv 25\,5% (1016\,55 €). Tarjous voimassa 10.5.2026 asti.Normaali 950 € + alv 25\,5% (1192\,25 €). \nKertaus: 520 € + alv 25\,5% (652\,6 €). \nKurssihinta sisältää opetuksen\, englanninkielisen opinto-oppaan sekä kahvin ja teen. Lounas on omakustanteinen.Opetuskieli: englanti\, kurssi tulkataan suomeksi ja opetusavustajat puhuvat suomea. \n  \nIlmoittaudu koulutukseen:\n1. Ostamalla koulutus FIMT-verkkokaupasta.\n2. Ilmoittautumalla info@barral.fi \nTarjoamme kurssin suoraoston lisäksi myös osamaksuvaihtoehtoja – ota rohkeasti yhteyttä!\n			\n			\n				\n				\n				\n				\n			\n				\n				\n				\n				\n				\n				\n				\n				\n				\n				\n				Osta koulutus FIMT-verkkokaupasta\n			\n				Viskeraalimanipulaatio 4
URL:https://www.barral.fi/koulutus/vm4-viskeraalimanipulaatio-4-rintakeha/
LOCATION:FIMT Koulutuskeskus\, Töyrytie 1\, Tampere\, 33530\, Finland
CATEGORIES:Viskeraalimanipulaatio
ORGANIZER;CN="Barral Institute Finland":MAILTO:info@barral.fi
END:VEVENT
BEGIN:VEVENT
DTSTART;VALUE=DATE:20260903
DTEND;VALUE=DATE:20260907
DTSTAMP:20260416T135730
CREATED:20251028T114020Z
LAST-MODIFIED:20251028T114600Z
UID:1382-1788393600-1788739199@www.barral.fi
SUMMARY:VM1: Viskeraalimanipulaatio 1
DESCRIPTION:VM1- kurssilla opit perusteet osteopaatti\, fysioterapeutti Jean-Pierre Barralin kehittämän viskeraalimanipulaation (VM) perusteet ja tekniikoita muun muassa maksan\, vatsalaukun ja suoliston hoitoon. \nKurssi sisältää syvällisesti anatomiaa\, teoriaa ja käytännön harjoittelua. Viskeraalimanipulaatio on manuaaliterapian menetelmä\, joka keskittyy kehon sisäelinten (viskera) käsittelyyn ja niiden yhteyksiin muihin kehon rakenteisiin. \nViskeraalimanipulaation taidot tarjoavat monia hyötyjä manuaaliterapeuteille\, jotka haluavat laajentaa osaamistaan ja parantaa hoitotuloksiaan. Viskeraalimanipulaatiossa ymmärretään\, kuinka sisäelinten tila voi vaikuttaa myös muihin kehon rakenteisiin\, kuten lihaksiin\, jänteisiin ja niveliin. \nViskeraalimanipulaation avulla voidaan hoitaa toiminnallista ja rakenteellista epätasapainoa kaikkialla kehossa\, mukaan lukien tuki- ja liikuntaelimistön\, verisuonten\, hermoston\, urogenitaalisten\, hengitysteiden\, ruoansulatuskanavan ja imukudoksen toimintahäiriöiden alassa. \nViskeraalimanipulaatiossa terapeutti arvioi ja käsittelee kehon liikkeen ja ryhdin dynamiikkaa suhteessa sisäelimiin\, sidekudoksiin\, faskiaan ja nivelsiteisiin. Viskeraalimanipulaation avulla voidaan lisätä kehon sisäistä proprioseptiivistä kommunikaatiota\, ja täten parantaa hoidettavan kehon terveyttä\, lievittää kipua ja parantaa toimintahäiriöiden ja huonon ryhdin aiheuttamia oireita. \nOsaamistavoitteet:\n– Tunnet Jean-Pierre Barralin innovatiiviset toiminnallisen biomekaniikan mallit ja teoriat.\n– Tunnet ja osaat tehdä manuaalisen paikannuksen\, arvioinnin ja hoidon toimintahäiriöalueille vatsaontelossa.\n– Tunnet teoriassa ja käytännössä käsitteet jännitepinnat\, mobiliteetti ja motiliteetti.\n– Osaat spesifit tekniikat paikantamiseen ja arviointiin seuraaville vatsaontelon sisäelimille ja sulkijalihaksille: mahalaukku\, pohjukaissuoli\, maksa\, sappirakko\, ohutsuoli\, paksusuoli\, pieni ja suuri vatsapaita ja niihin kiinnittyvät tukirakenteet.\n– Tunnet tekniikoiden vaikutukset ja kontraindikaatiot.\n– Tunnet ja osaat paikantaa kehon liikkeen ja jännitteiden dynamiikkaa suhteessa sisäelimiin\, kalvoihin ja ligamentteihin.\n– Osaat tunnistaa ja ymmärrät sisäelinten vuorovaikutussuhteet rakenteelliseen ja/tai hermostolliseen toimintahäiriöön kehossa.\n– Ymmärrät\, kuinka voidaan edistää hyvän toiminnallisuuden ja somaattisten rakenteiden tasapainoa kehossa kokonaisvaltaisesti viskeraalimanipulaation avulla. \nPohjavaatimus: Sosiaali- ja terveydenhuoltoalan koulutus\, koulutus manuaalisesta terapiasta. Muussa tapauksessa olethan yhteydessä ennen ilmoittautumista. \nKurssin toteutuksen tiedot:\nKesto: 4 pv\, 32 tuntia.\nAjankohta: 3.-6.9.2026.\nPaikka: FIMT Finnish Institute of Manual Therapy\, Töyrytie 1-5\, Tampere. \nOpettaja: Kirstie Cousins (UK)\, B Ost B.A (Hons)\, BI-D\, LSSM (Dip) (tutustu Kirstieen lähemmin täällä). \nHinta:\nEarly Bird 740 € + alv 25\,5% (928\,70 €). Tarjous voimassa 14.6.2026 asti.\nNormaali 880 € + alv 25\,5% (1104\,40 €). \nKurssihinta sisältää opetuksen\, englanninkielisen opinto-oppaan sekä kahvin ja teen. Lounas on omakustanteinen.\nOpetuskieli: englanti\, kurssi tulkataan suomeksi ja opetusavustajat puhuvat suomea. \nKoulutuksen järjestää Barral Institute Finland. Koulutukseen liittyvissä sisällöllisissä ja käytännönjärjestelyihin liittyvissä asioissa ota yhteyttä info@barral.fi. \nLue lisää viskeraalimanipulaatiosta täältä. \n  \nIlmoittaudu koulutukseen:\n1. Ostamalla koulutus FIMT-verkkokaupasta täältä \n2. Ilmoittautumalla info@barral.fi \nTarjoamme kurssin suoraoston lisäksi myös osamaksuvaihtoehtoja – ota rohkeasti yhteyttä!
URL:https://www.barral.fi/koulutus/vm1-viskeraalimanipulaatio-1-3-6-9-2026/
LOCATION:FIMT Koulutuskeskus\, Töyrytie 1\, Tampere\, 33530\, Finland
CATEGORIES:Viskeraalimanipulaatio
ORGANIZER;CN="Barral Institute Finland":MAILTO:info@barral.fi
END:VEVENT
BEGIN:VEVENT
DTSTART;TZID=UTC:20261106T090000
DTEND;TZID=UTC:20261108T160000
DTSTAMP:20260416T135730
CREATED:20250525T193331Z
LAST-MODIFIED:20260123T084330Z
UID:1262-1793955600-1794153600@www.barral.fi
SUMMARY:NM3 Neuraalimanipulaatio 3
DESCRIPTION:NM3: Neuraalimanipulaatio 3 – Ääreishermosto\, Alaraajat\nKesto: 3 pv\, 24 tuntia \nNM3-kurssilla keskitytään tutkimaan alaraajan hermoja ja niiden rakenteita sekä hoitamaan alaraajojen alueen hermostoperäisiä kiputiloja. Kurssilla opit erilaisia arviointi- ja hoitotekniikoita. Kurssilla perehdytään syvällisesti alaraajojen ääreishermojen toimintahäiriöihin ja siihen\, miten alaraajojen toiminnan häiriöt voivat vaikuttaa keskushermostoon. \n\nPohjavaatimus: NM1 \n\nOsaamistavoitteet:– Tunnet yksityiskohtaisesti alavartalon ääreishermojen anatomian ja toiminnan periaatteet.– Tunnet tyypilliset kiputilat\, jotka johtuvat alavartalon ääreishermojen toimintahäiriöistä.– Osaat tutkia tyypillisiä kipuja\, jotka johtuvat ääreishermojen toimintahäiriöistä alavartalon ja alaraajojen alueella.– Osaat arviointimenetelmiä ja hoitotekniikoita alaraajojen ääreishermojen normaalin toiminnan edistämiseksi.– Osaat yhdistää neuraalimanipulaatiotekniikoita hoidossasi muihin manuaalisiin tekniikoihin parhaan hoitovasteen saavuttamiseksi. \nKurssikirjallisuus: Manual Therapy for Peripheral Nerves by Jean-Pierre Barral\, RPT\, DO; and Alain Croibier\, D.O. \nKurssin toteutuksen tiedot: \nAjankohta: 6.-8.11.2026 \nOpettaja: Alex Fugallo (UK) BSc(Hons)\, Ost Med DO ND\, BI-D (tutustu Alexiin täällä). \nPaikka: Shakta Joogakoulu\, Helsinki. \nHinta: \nEarly Bird 680 € + alv 25\,5%  (853\,40 €) (voimassa 9.8.2026 asti). \nNormaali 740 € + alv 25\,5% (928\,70 €). \nKurssihinta sisältää opetuksen\, englanninkielisen opinto-oppaan sekä kahvin ja teen. Lounas on omakustanteinen. \nOpetuskieli: englanti\, kurssi tulkataan suomeksi ja opetusavustajat puhuvat suomea \nKoulutuksen järjestää Barral Institute Finland. Koulutukseen liittyvissä sisällöllisissä ja käytännönjärjestelyihin liittyvissä asioissa ota yhteyttä info@barral.fi. \n  \nIlmoittaudu koulutukseen:\n1. Ostamalla koulutus FIMT-verkkokaupasta.\n2. Ilmoittautumalla info@barral.fi \nTarjoamme kurssin suoraoston lisäksi myös osamaksuvaihtoehtoja – ota rohkeasti yhteyttä!\n			\n			\n				\n				\n				\n				\n			\n				\n				\n				\n				\n				\n				\n				\n				\n				\n				\n				Osta koulutus FIMT-verkkokaupasta\n			\n				Neuraalimanipulaatio 3
URL:https://www.barral.fi/koulutus/nm3-neuraalimanipulaatio-3/
LOCATION:Shakta Joogakoulu\, Työpajankatu 10 A\, Helsinki\, 00580\, Finland
CATEGORIES:Neuraalimanipulaatio
ORGANIZER;CN="Barral Institute Finland":MAILTO:info@barral.fi
END:VEVENT
BEGIN:VEVENT
DTSTART;TZID=UTC:20261204T090000
DTEND;TZID=UTC:20261206T160000
DTSTAMP:20260416T135730
CREATED:20250525T202814Z
LAST-MODIFIED:20251025T192055Z
UID:1269-1796374800-1796572800@www.barral.fi
SUMMARY:MASP: Nivelalueiden manuaalinen käsittely – Selkä & Lantio
DESCRIPTION:MASP-kurssilla tutkit ja käsittelet monipuolisesti lantion ja selän nivelalueita. Kurssilla opetellaan tutkimaan\, arvioimaan ja hoitamaan lantion ja selän alueiden hermojen\, valtimoiden\, nivelsiteiden ja -kapseleiden sekä luiden ja pehmytkudosten tilaa ja toimintahäiriöitä. \nOsaamistavoitteet:– Osaat tutkia ja arvioida lantion ja selän alueiden hermojen\, valtimoiden\, nivelsiteiden ja -kapseleiden sekä luiden ja pehmytkudosten tilaa ja toimintahäiriöitä.– Ymmärrät nivelten ja sisäelinten keskinäisiä suhteita sekä lantion ja selän alueiden nivelten yhteyksiä kehon muiden osien kanssa\,– Tunnistat miten nivelalueet liittyvät kehon tunneyhteyksiin.– Osaat tehdä lantion ja selän nivelalueille tarkkoja mobilisoivia ja nivelen hyvinvointia edistäviä tekniikoita.– Ymmärrät perinteisten indikaatioiden\, kuten kivun tai niveltulehduksen perusteet uudella tavalla.– Tunnet syvällisesti lantion ja selän nivelalueiden anatomiaa ja fysiologiaa. \n\nPohjavaatimus: Sosiaali- ja terveydenhuoltoalan koulutus\, koulutus manuaalisesta terapiasta. \n\nKurssikirjallisuus: New Manual Articular Approach for Cervical Spine by Jean-Pierre Barral\, RPT\, DO; and Alain Croibier\, D.O. \nKurssin toteutuksen tiedot: \nKesto: 3 pv\, 24 tuntia. \nAjankohta: 4.-6.12.2026. \nOpettaja: Kåre Nielsen (DK)\, Osteopaatti\, DO\, M.D.O. (tutustu Kåreen lähemmin täällä). \nPaikka: Shakta Joogakoulu\, Helsinki. \nHinta:  \nEarly Bird 760 € + alv 25\,5%  (953\,80 €). Tarjous voimassa 11.9.2026 asti. \nNormaali 880 € + alv 25\,5% (1104\,40 €). \nKurssihinta sisältää opetuksen\, englanninkielisen opinto-oppaan sekä kahvin ja teen. Lounas on omakustanteinen. \nOpetuskieli: englanti\, kurssi tulkataan suomeksi ja opetusavustajat puhuvat suomea \nKoulutuksen järjestää Barral Institute Finland. Koulutukseen liittyvissä sisällöllisissä ja käytännönjärjestelyihin liittyvissä asioissa ota yhteyttä info@barral.fi. \n  \nIlmoittaudu koulutukseen:\n1. Ostamalla koulutus FIMT-verkkokaupasta.\n2. Ilmoittautumalla info@barral.fi \nTarjoamme kurssin suoraoston lisäksi myös osamaksuvaihtoehtoja – ota rohkeasti yhteyttä!\n			\n			\n				\n				\n				\n				\n			\n				\n				\n				\n				\n				\n				\n				\n				\n				\n				\n				Osta koulutus FIMT-verkkokaupasta\n			\n				MASP
URL:https://www.barral.fi/koulutus/masp-nivelalueiden-manuaalinen-kasittely-selka-lantio/
LOCATION:Shakta Joogakoulu\, Työpajankatu 10 A\, Helsinki\, 00580\, Finland
CATEGORIES:MAA Nivelalueiden manuaalinen käsittely
ORGANIZER;CN="Barral Institute Finland":MAILTO:info@barral.fi
END:VEVENT
END:VCALENDAR